BEGIN:VCALENDAR
VERSION:2.0
CALSCALE:GREGORIAN
METHOD:PUBLISH
X-WR-TIMEZONE:Australia/Sydney
BEGIN:VTIMEZONE
TZID:Australia/Sydney
BEGIN:STANDARD
TZNAME:AEST
DTSTART:19700101T000000
TZOFFSETFROM:+1100
TZOFFSETTO:+1000
END:STANDARD
END:VTIMEZONE
BEGIN:VEVENT
DTSTART;TZID=Australia/Sydney:20200317
DTEND;TZID=Australia/Sydney:20200317
DTSTAMP:20260422T003057
UID:742
SUMMARY:St Patrick&#039;s Jelly Day
DESCRIPTION:




Jelly Cups will be on sale at the canteen in the first break for $1.00. Proceeds towards the shade sail for the new junior sandpit.&amp;nbsp;


SEQUENCE:0
STATUS:CONFIRMED
TRANSP:OPAQUE
END:VEVENT
END:VCALENDAR