BEGIN:VCALENDAR
VERSION:2.0
CALSCALE:GREGORIAN
METHOD:PUBLISH
X-WR-TIMEZONE:Australia/Sydney
BEGIN:VTIMEZONE
TZID:Australia/Sydney
BEGIN:STANDARD
TZNAME:AEST
DTSTART:19700101T000000
TZOFFSETFROM:+1100
TZOFFSETTO:+1000
END:STANDARD
END:VTIMEZONE
BEGIN:VEVENT
DTSTART;TZID=Australia/Sydney:20260525
DTEND;TZID=Australia/Sydney:20260525
DTSTAMP:20260424T011706
UID:1551
SUMMARY:Swimming Lessons
DESCRIPTION:




The Pre Primary to Year 6 students will participate in swimming lessons for 2 weeks at the Fremantle Leisure Centre.&amp;nbsp;


SEQUENCE:0
STATUS:CONFIRMED
TRANSP:OPAQUE
END:VEVENT
END:VCALENDAR