BEGIN:VCALENDAR
VERSION:2.0
CALSCALE:GREGORIAN
METHOD:PUBLISH
X-WR-TIMEZONE:Australia/Sydney
BEGIN:VTIMEZONE
TZID:Australia/Sydney
BEGIN:STANDARD
TZNAME:AEST
DTSTART:19700101T000000
TZOFFSETFROM:+1100
TZOFFSETTO:+1000
END:STANDARD
END:VTIMEZONE
BEGIN:VEVENT
DTSTART;TZID=Australia/Sydney:20260512
DTEND;TZID=Australia/Sydney:20260512
DTSTAMP:20260424T005942
UID:1546
SUMMARY:Year 4 Music Testing
DESCRIPTION:




The year 4 students will have their music testing today.&amp;nbsp; Please see your class teacher for further information.&amp;nbsp;


SEQUENCE:0
STATUS:CONFIRMED
TRANSP:OPAQUE
END:VEVENT
END:VCALENDAR