BEGIN:VCALENDAR
VERSION:2.0
CALSCALE:GREGORIAN
METHOD:PUBLISH
X-WR-TIMEZONE:Australia/Sydney
BEGIN:VTIMEZONE
TZID:Australia/Sydney
BEGIN:STANDARD
TZNAME:AEST
DTSTART:19700101T000000
TZOFFSETFROM:+1100
TZOFFSETTO:+1000
END:STANDARD
END:VTIMEZONE
BEGIN:VEVENT
DTSTART;TZID=Australia/Sydney:20260424T084500
DTEND;TZID=Australia/Sydney:20260424T093000
DTSTAMP:20260424T010912
UID:1542
SUMMARY:Years 3 - 6 ANZAC service
DESCRIPTION:




The years 3 - 6 students will partake in a ANZAC service today in the assembly area.&amp;nbsp;


SEQUENCE:0
STATUS:CONFIRMED
TRANSP:OPAQUE
END:VEVENT
END:VCALENDAR