BEGIN:VCALENDAR
VERSION:2.0
CALSCALE:GREGORIAN
METHOD:PUBLISH
X-WR-TIMEZONE:Australia/Sydney
BEGIN:VTIMEZONE
TZID:Australia/Sydney
BEGIN:STANDARD
TZNAME:AEST
DTSTART:19700101T000000
TZOFFSETFROM:+1100
TZOFFSETTO:+1000
END:STANDARD
END:VTIMEZONE
BEGIN:VEVENT
DTSTART;TZID=Australia/Sydney:20260602
DTEND;TZID=Australia/Sydney:20260602
DTSTAMP:20260424T011518
UID:1516
SUMMARY:School Development Day
DESCRIPTION:




Students DO NOT attend school today as it is a School Development Day.


SEQUENCE:0
STATUS:CONFIRMED
TRANSP:OPAQUE
END:VEVENT
END:VCALENDAR